BEGIN:VCALENDAR
VERSION:2.0
PRODID:-//SkyView - ECPv6.15.20//NONSGML v1.0//EN
CALSCALE:GREGORIAN
METHOD:PUBLISH
X-WR-CALNAME:SkyView
X-ORIGINAL-URL:https://bioslighting-skyview.com
X-WR-CALDESC:Events for SkyView
REFRESH-INTERVAL;VALUE=DURATION:PT1H
X-Robots-Tag:noindex
X-PUBLISHED-TTL:PT1H
BEGIN:VTIMEZONE
TZID:America/Los_Angeles
BEGIN:DAYLIGHT
TZOFFSETFROM:-0800
TZOFFSETTO:-0700
TZNAME:PDT
DTSTART:20250309T100000
END:DAYLIGHT
BEGIN:STANDARD
TZOFFSETFROM:-0700
TZOFFSETTO:-0800
TZNAME:PST
DTSTART:20251102T090000
END:STANDARD
BEGIN:DAYLIGHT
TZOFFSETFROM:-0800
TZOFFSETTO:-0700
TZNAME:PDT
DTSTART:20260308T100000
END:DAYLIGHT
BEGIN:STANDARD
TZOFFSETFROM:-0700
TZOFFSETTO:-0800
TZNAME:PST
DTSTART:20261101T090000
END:STANDARD
BEGIN:DAYLIGHT
TZOFFSETFROM:-0800
TZOFFSETTO:-0700
TZNAME:PDT
DTSTART:20270314T100000
END:DAYLIGHT
BEGIN:STANDARD
TZOFFSETFROM:-0700
TZOFFSETTO:-0800
TZNAME:PST
DTSTART:20271107T090000
END:STANDARD
END:VTIMEZONE
BEGIN:VEVENT
DTSTART;VALUE=DATE:20260608
DTEND;VALUE=DATE:20260611
DTSTAMP:20260425T093859
CREATED:20260312T165019Z
LAST-MODIFIED:20260316T161445Z
UID:1690-1780876800-1781135999@bioslighting-skyview.com
SUMMARY:NeoCon 2026
DESCRIPTION:
URL:https://bioslighting-skyview.com/event/neocon-2026/
LOCATION:The Mart\, 222 W Merchandise Mart Plaza\, Chicago\, IL\, 60654\, United States
ATTACH;FMTTYPE=image/webp:https://bioslighting-skyview.com/wp-content/uploads/2026/03/NeoCon.webp
END:VEVENT
BEGIN:VEVENT
DTSTART;VALUE=DATE:20260625
DTEND;VALUE=DATE:20260626
DTSTAMP:20260425T093859
CREATED:20260313T174836Z
LAST-MODIFIED:20260316T171203Z
UID:1762-1782345600-1782431999@bioslighting-skyview.com
SUMMARY:Light! Design Expo
DESCRIPTION:Robert is speaking
URL:https://bioslighting-skyview.com/event/design-expo/
LOCATION:Pier 27 – James R. Herman Cruise Terminal\, Pier 27\, 27 The Embarcadero\, San Francisco\, CA\, 94111\, United States
ATTACH;FMTTYPE=image/jpeg:https://bioslighting-skyview.com/wp-content/uploads/2026/03/sf-light-design-expo-san-francisco-ies.jpg
END:VEVENT
BEGIN:VEVENT
DTSTART;VALUE=DATE:20260910
DTEND;VALUE=DATE:20260912
DTSTAMP:20260425T093859
CREATED:20260313T174628Z
LAST-MODIFIED:20260316T154719Z
UID:1759-1788998400-1789171199@bioslighting-skyview.com
SUMMARY:ERW Trunk Show
DESCRIPTION:
URL:https://bioslighting-skyview.com/event/erw-trunk-show/
LOCATION:ERW\, 5811 6th Avenue South\, Seattle\, WA\, 98108\, United States
ATTACH;FMTTYPE=image/png:https://bioslighting-skyview.com/wp-content/uploads/2026/03/ERW.png
END:VEVENT
END:VCALENDAR